BEGIN:VCALENDAR
VERSION:2.0
PRODID:-//Calvin Theological Seminary - ECPv6.15.20//NONSGML v1.0//EN
CALSCALE:GREGORIAN
METHOD:PUBLISH
X-WR-CALNAME:Calvin Theological Seminary
X-ORIGINAL-URL:https://calvinseminary.edu
X-WR-CALDESC:Events for Calvin Theological Seminary
REFRESH-INTERVAL;VALUE=DURATION:PT1H
X-Robots-Tag:noindex
X-PUBLISHED-TTL:PT1H
BEGIN:VTIMEZONE
TZID:America/Detroit
BEGIN:DAYLIGHT
TZOFFSETFROM:-0500
TZOFFSETTO:-0400
TZNAME:EDT
DTSTART:20220313T070000
END:DAYLIGHT
BEGIN:STANDARD
TZOFFSETFROM:-0400
TZOFFSETTO:-0500
TZNAME:EST
DTSTART:20221106T060000
END:STANDARD
BEGIN:DAYLIGHT
TZOFFSETFROM:-0500
TZOFFSETTO:-0400
TZNAME:EDT
DTSTART:20230312T070000
END:DAYLIGHT
BEGIN:STANDARD
TZOFFSETFROM:-0400
TZOFFSETTO:-0500
TZNAME:EST
DTSTART:20231105T060000
END:STANDARD
BEGIN:DAYLIGHT
TZOFFSETFROM:-0500
TZOFFSETTO:-0400
TZNAME:EDT
DTSTART:20240310T070000
END:DAYLIGHT
BEGIN:STANDARD
TZOFFSETFROM:-0400
TZOFFSETTO:-0500
TZNAME:EST
DTSTART:20241103T060000
END:STANDARD
BEGIN:DAYLIGHT
TZOFFSETFROM:-0500
TZOFFSETTO:-0400
TZNAME:EDT
DTSTART:20250309T070000
END:DAYLIGHT
BEGIN:STANDARD
TZOFFSETFROM:-0400
TZOFFSETTO:-0500
TZNAME:EST
DTSTART:20251102T060000
END:STANDARD
BEGIN:DAYLIGHT
TZOFFSETFROM:-0500
TZOFFSETTO:-0400
TZNAME:EDT
DTSTART:20260308T070000
END:DAYLIGHT
BEGIN:STANDARD
TZOFFSETFROM:-0400
TZOFFSETTO:-0500
TZNAME:EST
DTSTART:20261101T060000
END:STANDARD
END:VTIMEZONE
BEGIN:VEVENT
DTSTART;TZID=America/Detroit:20250414T173000
DTEND;TZID=America/Detroit:20250414T193000
DTSTAMP:20260420T055444
CREATED:20250304T172307Z
LAST-MODIFIED:20250304T172307Z
UID:10000733-1744651800-1744659000@calvinseminary.edu
SUMMARY:Women of the Seminary
DESCRIPTION:Jackie Medenblik\, on behalf of The Spouse and Family Ministries team\, invites all seminary women to our annual dinner at Watermark Country Club on Monday\, April 14 with Dr. Mary VandenBerg as our speaker! Punch is at 5:30pm and dinner at 6:00pm. Let us know you are attending by signing up below by April 4. Join us for a time of food\, fellowship and fun! \nRSVP HERE: https://docs.google.com/spreadsheets/d/1NNQpn-dMl8Od9uI8gtzE6AAZZ3wkFl5HpCncOSAaxJc/edit?gid=0#gid=0
URL:https://calvinseminary.edu/event/women-of-the-seminary/
LOCATION:Watermark Country Club
ATTACH;FMTTYPE=image/png:https://calvinseminary.edu/wp-content/uploads/2025/03/WOTS.png
END:VEVENT
BEGIN:VEVENT
DTSTART;TZID=America/Detroit:20240416T180000
DTEND;TZID=America/Detroit:20240416T180000
DTSTAMP:20260420T055444
CREATED:20240306T202721Z
LAST-MODIFIED:20240306T202721Z
UID:10000554-1713290400-1713290400@calvinseminary.edu
SUMMARY:Women of the Seminary
DESCRIPTION:Event Name: Women of the Seminary\nDate: Tuesday\, April 16\nTime: 6 pm\nLocation: Watermark Country Club\nRSVP Deadline: April 10
URL:https://calvinseminary.edu/event/women-of-the-seminary-04-16-2024/
LOCATION:Watermark Country Club
CATEGORIES:Student Life
ATTACH;FMTTYPE=image/jpeg:https://calvinseminary.edu/wp-content/uploads/2024/03/watermark-image.jpeg
END:VEVENT
BEGIN:VEVENT
DTSTART;TZID=America/Detroit:20230515T180000
DTEND;TZID=America/Detroit:20230515T200000
DTSTAMP:20260420T055444
CREATED:20230525T190138Z
LAST-MODIFIED:20230712T134333Z
UID:10000087-1684173600-1684180800@calvinseminary.edu
SUMMARY:Thanksgiving in May
DESCRIPTION:For all faculty\, staff\, retirees and spouses
URL:https://calvinseminary.edu/event/thanksgiving-in-may/
LOCATION:Watermark Country Club
CATEGORIES:Public Event
ATTACH;FMTTYPE=image/jpeg:https://calvinseminary.edu/wp-content/uploads/2023/05/CTS-seal-and-logo-stacked-16x9ratio-scaled.jpg
END:VEVENT
BEGIN:VEVENT
DTSTART;TZID=America/Detroit:20230323T180000
DTEND;TZID=America/Detroit:20230323T200000
DTSTAMP:20260420T055444
CREATED:20230329T184733Z
LAST-MODIFIED:20230329T184733Z
UID:10000040-1679594400-1679601600@calvinseminary.edu
SUMMARY:Women of the Seminary Event
DESCRIPTION:Jackie Medenblik cordially invites all women of the seminary to join her at Watermark Country Club on Thursday evening\, March 23rd at 6pm for dinner and an evening of fellowship. Author and speaker\, Laura DeGroot\, will be speaking about her book\, Live Wide Awake.\nAll women of the seminary including students\, staff\, faculty\, and spouses are invited to this event. RSVP by March 20th by signing up here. Contact the Student Life Office with questions.
URL:https://calvinseminary.edu/event/women-of-the-seminary-event/
LOCATION:Watermark Country Club
CATEGORIES:Student Life
END:VEVENT
END:VCALENDAR