BEGIN:VCALENDAR
VERSION:2.0
PRODID:-//Calvin Theological Seminary - ECPv6.15.20//NONSGML v1.0//EN
CALSCALE:GREGORIAN
METHOD:PUBLISH
X-WR-CALNAME:Calvin Theological Seminary
X-ORIGINAL-URL:https://calvinseminary.edu
X-WR-CALDESC:Events for Calvin Theological Seminary
REFRESH-INTERVAL;VALUE=DURATION:PT1H
X-Robots-Tag:noindex
X-PUBLISHED-TTL:PT1H
BEGIN:VTIMEZONE
TZID:America/Detroit
BEGIN:DAYLIGHT
TZOFFSETFROM:-0500
TZOFFSETTO:-0400
TZNAME:EDT
DTSTART:20220313T070000
END:DAYLIGHT
BEGIN:STANDARD
TZOFFSETFROM:-0400
TZOFFSETTO:-0500
TZNAME:EST
DTSTART:20221106T060000
END:STANDARD
BEGIN:DAYLIGHT
TZOFFSETFROM:-0500
TZOFFSETTO:-0400
TZNAME:EDT
DTSTART:20230312T070000
END:DAYLIGHT
BEGIN:STANDARD
TZOFFSETFROM:-0400
TZOFFSETTO:-0500
TZNAME:EST
DTSTART:20231105T060000
END:STANDARD
BEGIN:DAYLIGHT
TZOFFSETFROM:-0500
TZOFFSETTO:-0400
TZNAME:EDT
DTSTART:20240310T070000
END:DAYLIGHT
BEGIN:STANDARD
TZOFFSETFROM:-0400
TZOFFSETTO:-0500
TZNAME:EST
DTSTART:20241103T060000
END:STANDARD
BEGIN:DAYLIGHT
TZOFFSETFROM:-0500
TZOFFSETTO:-0400
TZNAME:EDT
DTSTART:20250309T070000
END:DAYLIGHT
BEGIN:STANDARD
TZOFFSETFROM:-0400
TZOFFSETTO:-0500
TZNAME:EST
DTSTART:20251102T060000
END:STANDARD
END:VTIMEZONE
BEGIN:VEVENT
DTSTART;TZID=America/Detroit:20241212T153000
DTEND;TZID=America/Detroit:20241212T163000
DTSTAMP:20260420T033924
CREATED:20241209T153336Z
LAST-MODIFIED:20241209T153336Z
UID:10000704-1734017400-1734021000@calvinseminary.edu
SUMMARY:Lecture: Calvin's Method of Pastoral Formation
DESCRIPTION:We are thrilled to welcome Pastor Van Biak Muan as our most recent visiting scholar at the Meeter Center. He is the recipient of this year’s Emo Van Halsema fellowship for pastors in the Reformed tradition and is currently working on his PhD dissertation at Trinity Theological College in Singapore. \nPresentation Topic: \n“Calvin’s Method of Pastoral Formation” \nDiscover how Calvin’s doctrine of union with Christ and the twofold grace shapes a pastoral formation approach that blends deep spiritual practices (repentance\, prayer\, and contemplation) with robust ministry preparation (sound doctrine\, biblical exegesis\, and homiletics). \nYou can sign up here to receive a Zoom link once available: https://www.signupgenius.com/go/10C0A45ADAF23A4FC1-47273587-thomas#/
URL:https://calvinseminary.edu/event/lecture-calvins-method-of-pastoral-formation/
LOCATION:H. Henry Meeter Center\, 1855 Knollcrest Circle Southeast\, Grand Rapids\, MI\, 49546\, United States
ATTACH;FMTTYPE=image/png:https://calvinseminary.edu/wp-content/uploads/2024/12/meeter-event-1212.png
END:VEVENT
BEGIN:VEVENT
DTSTART;TZID=America/Detroit:20241029T153000
DTEND;TZID=America/Detroit:20241029T163000
DTSTAMP:20260420T033924
CREATED:20241008T175435Z
LAST-MODIFIED:20241008T175435Z
UID:10000684-1730215800-1730219400@calvinseminary.edu
SUMMARY:Meeter Center Lecture: Seeking Wisdom in Benedictine Spirituality
DESCRIPTION:Amidst overarching secularism in northwestern Europe today\, there appears to be an appetite in Germany and the Netherlands for the wisdom rooted in the Benedictine Order of the Roman Catholic church. This presentation explores some of the themes and persons of this trend and suggests reasons for this phenomena.
URL:https://calvinseminary.edu/event/meeter-center-lecture-seeking-wisdom-in-benedictine-spirituality/
LOCATION:H. Henry Meeter Center\, 1855 Knollcrest Circle Southeast\, Grand Rapids\, MI\, 49546\, United States
ATTACH;FMTTYPE=image/png:https://calvinseminary.edu/wp-content/uploads/2024/10/meeter-center-10_29_2024-lecture.png
END:VEVENT
BEGIN:VEVENT
DTSTART;TZID=America/Detroit:20240403T160000
DTEND;TZID=America/Detroit:20240403T170000
DTSTAMP:20260420T033924
CREATED:20240319T190527Z
LAST-MODIFIED:20240322T125849Z
UID:10000558-1712160000-1712163600@calvinseminary.edu
SUMMARY:Meeter Center Spring Lecture on Religious Revival
DESCRIPTION:Come hear from Dr. Otto Selles (French Department at Calvin University) about a fascinating episode of religious revival among French Protestants in Montpellier in the early 18th century. The Meeter Center Spring Public Lecture takes place on Wednesday\, April 3\, at 4 PM in the Meeter Center Lecture Hall\, off the Library Lobby. His presentation is titled “Prophetic Calvinism and a Huguenot ‘Awakening’ in Montpellier\, France (1720-1723)” Don’t miss it!
URL:https://calvinseminary.edu/event/meeter-center-spring-lecture-on-religious-revival/
LOCATION:H. Henry Meeter Center\, 1855 Knollcrest Circle Southeast\, Grand Rapids\, MI\, 49546\, United States
ATTACH;FMTTYPE=image/png:https://calvinseminary.edu/wp-content/uploads/2024/03/Meeter-Spring-Lecture.png
END:VEVENT
BEGIN:VEVENT
DTSTART;TZID=America/Detroit:20240125T153000
DTEND;TZID=America/Detroit:20240125T163000
DTSTAMP:20260420T033924
CREATED:20240122T210953Z
LAST-MODIFIED:20240122T210953Z
UID:10000520-1706196600-1706200200@calvinseminary.edu
SUMMARY:Presentation on John Calvin and the Bible
DESCRIPTION:The Meeter Center welcomes students\, faculty\, staff and emeriti to our upcoming presentation on John Calvin and the Bible\, on Thursday\, January 25\, starting at 3:30 PM in the Meeter Center\, Hekman Library fourth floor. \nOur speaker is Thomas Alexander (Virginia Theological Seminary). He will be presenting based on the research he carried out as a Meeter Center student research fellowship recipient in 2023 and 2024. His topic is “‘Constantly Kept Before Their Eyes’: John Calvin on Scripture as Text”
URL:https://calvinseminary.edu/event/presentation-on-john-calvin-and-the-bible/
LOCATION:H. Henry Meeter Center\, 1855 Knollcrest Circle Southeast\, Grand Rapids\, MI\, 49546\, United States
CATEGORIES:Centers & Institutes
ATTACH;FMTTYPE=image/jpeg:https://calvinseminary.edu/wp-content/uploads/2024/01/Meeter-Center.jpg
END:VEVENT
BEGIN:VEVENT
DTSTART;TZID=America/Detroit:20230802T153000
DTEND;TZID=America/Detroit:20230802T170000
DTSTAMP:20260420T033924
CREATED:20230802T160210Z
LAST-MODIFIED:20230823T130120Z
UID:10000132-1690990200-1690995600@calvinseminary.edu
SUMMARY:Meeter Center Presentation
DESCRIPTION:Last visiting scholar Meeter Center presentation for summer 2023 – don’t miss it! \n\nPlease join us on Wednesday\, August 2 at 3:30 PM in the Meeter Center\, on the fourth floor of Hekman Library to hear from Elizabeth Hines\, PhD student at the University of Chicago\, and a recipient of one of our student research fellowships for 2023. Her research focuses on the connections between the Low Countries and England in the 17th century – her presentation title is “Dutch Calvinism and the first Anglo-Dutch War”. Refreshments will be available after the talk and discussion and all are welcome!
URL:https://calvinseminary.edu/event/meeter-center-presentation/
LOCATION:H. Henry Meeter Center\, 1855 Knollcrest Circle Southeast\, Grand Rapids\, MI\, 49546\, United States
CATEGORIES:Centers & Institutes
ATTACH;FMTTYPE=image/jpeg:https://calvinseminary.edu/wp-content/uploads/2023/05/CTS-seal-and-logo-stacked-16x9ratio-scaled.jpg
END:VEVENT
BEGIN:VEVENT
DTSTART;TZID=America/Detroit:20230720T150000
DTEND;TZID=America/Detroit:20230720T170000
DTSTAMP:20260420T033924
CREATED:20230719T124212Z
LAST-MODIFIED:20230719T124212Z
UID:10000124-1689865200-1689872400@calvinseminary.edu
SUMMARY:Bernard van Vreeswijk and Jared Michelson's Presentations
DESCRIPTION:There’s lots going on at the Meeter Center! \nOn Thursday\, July 20\, we have a double-header. At 3 PM\, Bernard van Vreeswijk (pastor of the Protestant Church in Scheveningen\, The Netherlands) will present “Anselm of Canterbury and the Reformers on Atonement: Two Different Models?” He is our 2023 Meeter Family Fellowship recipient. Then at 3:30 PM\, we’ll hear from Jared Michelson (Honorary Lecturer and Honorary Chaplain at the University of Saint Andrews\, Scotland) on “The Doctrine of God and the Crisis of Modernity”. He is our 2023 Faculty Fellowship recipient. \nAll are invited to these presentations and ensuing discussion. Refreshments will be served.
URL:https://calvinseminary.edu/event/bernard-van-vreeswijk-and-jared-michelsons-presentations/
LOCATION:H. Henry Meeter Center\, 1855 Knollcrest Circle Southeast\, Grand Rapids\, MI\, 49546\, United States
CATEGORIES:Centers & Institutes
ATTACH;FMTTYPE=image/jpeg:https://calvinseminary.edu/wp-content/uploads/2023/05/CTS-seal-and-logo-stacked-16x9ratio-scaled.jpg
END:VEVENT
BEGIN:VEVENT
DTSTART;TZID=America/Detroit:20230710T090000
DTEND;TZID=America/Detroit:20230710T090000
DTSTAMP:20260420T033924
CREATED:20230706T133402Z
LAST-MODIFIED:20230710T170400Z
UID:10000092-1688979600-1688979600@calvinseminary.edu
SUMMARY:John Calvin's Birthday
DESCRIPTION:John Calvin’s 514th birthday is Monday\, July 10! Come mark the occasion at an open house at the Meeter Center (fourth floor of Hekman Library) from 9 to 11 am. Tour the center and view our new exhibit\, play Reformation-related games and win prizes\, enjoy refreshments\, take a selfie with John Calvin…lots of fun in prospect. There will be a special short presentation at 10 am on our new exhibit: John Calvin\, Exile\, and Religious Refugees. We hope to see you there!
URL:https://calvinseminary.edu/event/john-calvins-birthday/
LOCATION:H. Henry Meeter Center\, 1855 Knollcrest Circle Southeast\, Grand Rapids\, MI\, 49546\, United States
CATEGORIES:Public Event
ATTACH;FMTTYPE=image/jpeg:https://calvinseminary.edu/wp-content/uploads/2023/05/CTS-seal-and-logo-stacked-16x9ratio-scaled.jpg
END:VEVENT
BEGIN:VEVENT
DTSTART;TZID=America/Detroit:20230706T153000
DTEND;TZID=America/Detroit:20230706T153000
DTSTAMP:20260420T033924
CREATED:20230706T130030Z
LAST-MODIFIED:20230712T131421Z
UID:10000091-1688657400-1688657400@calvinseminary.edu
SUMMARY:Dr. Timothy Baylor's Presentation
DESCRIPTION:The Meeter Center for Calvin Studies (4th floor of Hekman Library) warmly invites faculty\, staff\, and students as well as community members to the following presentations by our summer researchers. \nThursday\, July 6 (3: 30 PM)\, Dr. Timothy Baylor\, University of Wales (Emo Van Halsema Fellowship Recipient)\, “Divine Dominion in the Theology of John Owen.” \nPresentations and ensuing discussion take place in the Meeter Center and refreshments will be served.
URL:https://calvinseminary.edu/event/dr-timothy-baylors-presentation/
LOCATION:H. Henry Meeter Center\, 1855 Knollcrest Circle Southeast\, Grand Rapids\, MI\, 49546\, United States
CATEGORIES:Centers & Institutes
ATTACH;FMTTYPE=image/jpeg:https://calvinseminary.edu/wp-content/uploads/2023/05/CTS-seal-and-logo-stacked-16x9ratio-scaled.jpg
END:VEVENT
END:VCALENDAR