BEGIN:VCALENDAR
VERSION:2.0
PRODID:-//Calvin Theological Seminary - ECPv6.15.20//NONSGML v1.0//EN
CALSCALE:GREGORIAN
METHOD:PUBLISH
X-ORIGINAL-URL:https://calvinseminary.edu
X-WR-CALDESC:Events for Calvin Theological Seminary
REFRESH-INTERVAL;VALUE=DURATION:PT1H
X-Robots-Tag:noindex
X-PUBLISHED-TTL:PT1H
BEGIN:VTIMEZONE
TZID:America/Detroit
BEGIN:DAYLIGHT
TZOFFSETFROM:-0500
TZOFFSETTO:-0400
TZNAME:EDT
DTSTART:20250309T070000
END:DAYLIGHT
BEGIN:STANDARD
TZOFFSETFROM:-0400
TZOFFSETTO:-0500
TZNAME:EST
DTSTART:20251102T060000
END:STANDARD
BEGIN:DAYLIGHT
TZOFFSETFROM:-0500
TZOFFSETTO:-0400
TZNAME:EDT
DTSTART:20260308T070000
END:DAYLIGHT
BEGIN:STANDARD
TZOFFSETFROM:-0400
TZOFFSETTO:-0500
TZNAME:EST
DTSTART:20261101T060000
END:STANDARD
BEGIN:DAYLIGHT
TZOFFSETFROM:-0500
TZOFFSETTO:-0400
TZNAME:EDT
DTSTART:20270314T070000
END:DAYLIGHT
BEGIN:STANDARD
TZOFFSETFROM:-0400
TZOFFSETTO:-0500
TZNAME:EST
DTSTART:20271107T060000
END:STANDARD
END:VTIMEZONE
BEGIN:VEVENT
DTSTART;TZID=America/Detroit:20260423T120000
DTEND;TZID=America/Detroit:20260423T130000
DTSTAMP:20260420T211137
CREATED:20250805T134702Z
LAST-MODIFIED:20250807T124654Z
UID:10000842-1776945600-1776949200@calvinseminary.edu
SUMMARY:Think Global Lunch
DESCRIPTION:Join Missionary in Residence Melissa Bos for Think Global Lunch! This event features food from around the world and conversations surrounding missions and God’s work in the global church. \nSpeakers: TBD \nRSVP form: forthcoming
URL:https://calvinseminary.edu/event/think-global-lunch-9/
LOCATION:Upper Room
ATTACH;FMTTYPE=image/png:https://calvinseminary.edu/wp-content/uploads/2025/06/tgtl.-april.png
ORGANIZER;CN="Melissa Bos":MAILTO:mbos@crcna.org
END:VEVENT
END:VCALENDAR