BEGIN:VCALENDAR
VERSION:2.0
PRODID:-//Calvin Theological Seminary - ECPv6.15.20//NONSGML v1.0//EN
CALSCALE:GREGORIAN
METHOD:PUBLISH
X-WR-CALNAME:Calvin Theological Seminary
X-ORIGINAL-URL:https://calvinseminary.edu
X-WR-CALDESC:Events for Calvin Theological Seminary
REFRESH-INTERVAL;VALUE=DURATION:PT1H
X-Robots-Tag:noindex
X-PUBLISHED-TTL:PT1H
BEGIN:VTIMEZONE
TZID:America/Detroit
BEGIN:DAYLIGHT
TZOFFSETFROM:-0500
TZOFFSETTO:-0400
TZNAME:EDT
DTSTART:20240310T070000
END:DAYLIGHT
BEGIN:STANDARD
TZOFFSETFROM:-0400
TZOFFSETTO:-0500
TZNAME:EST
DTSTART:20241103T060000
END:STANDARD
BEGIN:DAYLIGHT
TZOFFSETFROM:-0500
TZOFFSETTO:-0400
TZNAME:EDT
DTSTART:20250309T070000
END:DAYLIGHT
BEGIN:STANDARD
TZOFFSETFROM:-0400
TZOFFSETTO:-0500
TZNAME:EST
DTSTART:20251102T060000
END:STANDARD
BEGIN:DAYLIGHT
TZOFFSETFROM:-0500
TZOFFSETTO:-0400
TZNAME:EDT
DTSTART:20260308T070000
END:DAYLIGHT
BEGIN:STANDARD
TZOFFSETFROM:-0400
TZOFFSETTO:-0500
TZNAME:EST
DTSTART:20261101T060000
END:STANDARD
BEGIN:DAYLIGHT
TZOFFSETFROM:-0500
TZOFFSETTO:-0400
TZNAME:EDT
DTSTART:20270314T070000
END:DAYLIGHT
BEGIN:STANDARD
TZOFFSETFROM:-0400
TZOFFSETTO:-0500
TZNAME:EST
DTSTART:20271107T060000
END:STANDARD
END:VTIMEZONE
BEGIN:VEVENT
DTSTART;VALUE=DATE:20260105
DTEND;VALUE=DATE:20260110
DTSTAMP:20260422T073722
CREATED:20250325T190601Z
LAST-MODIFIED:20250325T190601Z
UID:10000750-1767571200-1768003199@calvinseminary.edu
SUMMARY:Doctor of Ministry Residential Week
DESCRIPTION:
URL:https://calvinseminary.edu/event/doctor-of-ministry-residential-week-3/
LOCATION:Calvin Theological Seminary\, 3233 Burton ST SE\, Grand Rapids\, MI\, 49519\, United States
ATTACH;FMTTYPE=image/png:https://calvinseminary.edu/wp-content/uploads/2025/03/13.png
ORGANIZER;CN="Doctor of Ministry Program":MAILTO:ctsdmin@calvinseminary.edu
END:VEVENT
BEGIN:VEVENT
DTSTART;VALUE=DATE:20250602
DTEND;VALUE=DATE:20250607
DTSTAMP:20260422T073722
CREATED:20250325T185703Z
LAST-MODIFIED:20250325T185703Z
UID:10000738-1748822400-1749254399@calvinseminary.edu
SUMMARY:Doctor of Ministry Residential Week
DESCRIPTION:
URL:https://calvinseminary.edu/event/doctor-of-ministry-residential-week-2/
LOCATION:Calvin Theological Seminary\, 3233 Burton ST SE\, Grand Rapids\, MI\, 49519\, United States
ATTACH;FMTTYPE=image/png:https://calvinseminary.edu/wp-content/uploads/2025/03/DMin-Summer.png
ORGANIZER;CN="Doctor of Ministry Program":MAILTO:ctsdmin@calvinseminary.edu
END:VEVENT
BEGIN:VEVENT
DTSTART;VALUE=DATE:20250106
DTEND;VALUE=DATE:20250111
DTSTAMP:20260422T073722
CREATED:20240807T150241Z
LAST-MODIFIED:20240807T150241Z
UID:10000576-1736121600-1736553599@calvinseminary.edu
SUMMARY:Doctor of Ministry Residential Week
DESCRIPTION:For more information\, see your course syllabus or contact the Doctor of Ministry program at ctsdmin@calvinseminary.edu.
URL:https://calvinseminary.edu/event/doctor-of-ministry-residential-week/
LOCATION:Calvin Theological Seminary\, 3233 Burton ST SE\, Grand Rapids\, MI\, 49519\, United States
ATTACH;FMTTYPE=image/png:https://calvinseminary.edu/wp-content/uploads/2024/08/DMin-Residential-Week.png
ORGANIZER;CN="Doctor of Ministry Program":MAILTO:ctsdmin@calvinseminary.edu
END:VEVENT
END:VCALENDAR